BEGIN:VCALENDAR
VERSION:2.0
PRODID:-//Saalfelden-Leogang.com//NONSGML kigkonsult.se iCalcreator 2.22.1/
 /EN
METHOD:PUBLISH
X-WR-CALNAME;LANGUAGE=en:Saalfelden-Leogang.com
X-WR-CALDESC;LANGUAGE=en:Saalfelden-Leogang.com
X-WR-TIMEZONE;LANGUAGE=en:Europe/Berlin
BEGIN:VEVENT
UID:20260421T135516CEST-7954GKoowd@Saalfelden-Leogang.com
DTSTAMP:20260421T115516Z
DESCRIPTION;LANGUAGE=en:South Afrika\, Austria \n\n\n\nNomfusi Ngonyama - v
 ocals \n\nTalo Ndou - guitar \n\nLukas Pamminger - bass \n\nKlaus Brennste
 iner - drums \n\nJohn Amoako - keys\n\n\n\nExperience the infectious energ
 y of Nomfusi - the South African power voice who inspires audiences worldw
 ide with her blend of township rhythms\, Afro-soul and gospel. Nomfusi\, w
 ho grew up in the township of KwaZakhele\, brings the stories of her child
 hood and the spiritual power of her culture to the stage with her music. H
 er performances are a firework display of emotion\, dance and musical dive
 rsity - a real experience for all the senses.
DTSTART:20250824T143000Z
DTEND:20250824T160000Z
LOCATION;LANGUAGE=en:Stadtpark Saalfelden
SUMMARY;LANGUAGE=en:Nomfusi
END:VEVENT
END:VCALENDAR
