BEGIN:VCALENDAR
VERSION:2.0
PRODID:-//Saalfelden-Leogang.com//NONSGML kigkonsult.se iCalcreator 2.22.1/
 /EN
METHOD:PUBLISH
X-WR-CALNAME;LANGUAGE=en:Saalfelden-Leogang.com
X-WR-CALDESC;LANGUAGE=en:Saalfelden-Leogang.com
X-WR-TIMEZONE;LANGUAGE=en:Europe/Berlin
BEGIN:VEVENT
UID:20260421T135552CEST-192470Woaj@Saalfelden-Leogang.com
DTSTAMP:20260421T115552Z
DESCRIPTION;LANGUAGE=en:Austria \n\n\n\nTobias Kobl – guitar\, vocals \n\nF
 elix Zinsser – bass\, vocals \n\nGregor Fussenegger – violin\, vocals\n\nF
 riedrich Vösenhuber – trombone\, guitar\, vocals\n\n\n\nFour young musicia
 ns with violin\, guitar\, trombone and double bass enchant with a repertoi
 re of gypsy jazz\, swing and bossa and revive the charm of the Golden 20s.
  Songs of lightness and joy\, but also melancholy and longing leave no hea
 rt untouched with their dreamy lyrics.\n\n\n\nPowered by Raiffeisen Salzbu
 rg \n\n\n\n_____________\n\n\n\nFree concert at the AlteSchmiede Leogang! 
 \n\nTable reservation under +43 6583 8246 400 recommended!
DTSTART:20250823T100000Z
DTEND:20250823T113000Z
LOCATION;LANGUAGE=en:AlteSchmiede
SUMMARY;LANGUAGE=en:Flüsterkneipe
END:VEVENT
END:VCALENDAR
