BEGIN:VCALENDAR
VERSION:2.0
PRODID:-//Saalfelden-Leogang.com//NONSGML kigkonsult.se iCalcreator 2.22.1/
 /EN
METHOD:PUBLISH
X-WR-CALNAME;LANGUAGE=en:Saalfelden-Leogang.com
X-WR-CALDESC;LANGUAGE=en:Saalfelden-Leogang.com
X-WR-TIMEZONE;LANGUAGE=en:Europe/Berlin
BEGIN:VEVENT
UID:20260421T135629CEST-38551hHl8i@Saalfelden-Leogang.com
DTSTAMP:20260421T115629Z
DESCRIPTION;LANGUAGE=en:Austria\, Russia\, Germany\n\n\n\nValentin Schuster
  - drums \n\nOlga Reznichenko - keys \n\nJan Frisch - git\, voc \n\nLaure 
 Boer – Klangkunst\n\n\n\nWimp\, Frog\, and Claw are only three of the 'FOU
 R LTTR WRDS' of this festival-tested quartet\, which released its debut al
 bum with 'elevator music for the claustrophobic' in early 2025 on the Leip
 zig based label 'Viel Erfolg Mit Der Musik' (Lots of success with the musi
 c). Guitarist\, bassist\, and composer Jan Frisch\, keytarist and synthesi
 zer player Olga Reznichenko\, folktronics artist Laure Boer on 'monochord\
 , electronics\, stones\, telephone\,' and drummer Valentin Schuster\, know
 n from Edi Nulz/The True Harry Nulz\, offer 'tongue-in-cheek\, acrobatic p
 unk with metric ambivalence' to 'sandblast well settled habits of receptio
 n”. The sound may briefly jangle and sparkle in an almost conciliatory way
 \, but only to unleash a metal broadside on this krautrock chamber jazz ba
 rge within the next beautiful moment of shock. Epidemics and computers\, p
 article physics and assembly lines are merely thematic “crutches” to be di
 scarded as quickly as possible\, optionally by way of expressive dancing.
DTSTART:20250822T183000Z
DTEND:20250822T193000Z
LOCATION;LANGUAGE=en:Otto-Gruberhalle
SUMMARY;LANGUAGE=en:Crutches
END:VEVENT
END:VCALENDAR
